BEGIN:VCALENDAR
VERSION:2.0
PRODID:-//Webgyrlz Code Computer Science Training - ECPv6.15.20//NONSGML v1.0//EN
CALSCALE:GREGORIAN
METHOD:PUBLISH
X-ORIGINAL-URL:https://webgyrlzcode.org
X-WR-CALDESC:Events for Webgyrlz Code Computer Science Training
REFRESH-INTERVAL;VALUE=DURATION:PT1H
X-Robots-Tag:noindex
X-PUBLISHED-TTL:PT1H
BEGIN:VTIMEZONE
TZID:UTC
BEGIN:STANDARD
TZOFFSETFROM:+0000
TZOFFSETTO:+0000
TZNAME:UTC
DTSTART:20220101T000000
END:STANDARD
END:VTIMEZONE
BEGIN:VEVENT
DTSTART;TZID=UTC:20230520T100000
DTEND;TZID=UTC:20230520T170000
DTSTAMP:20260424T085151
CREATED:20230510T154627Z
LAST-MODIFIED:20230510T154627Z
UID:1730-1684576800-1684602000@webgyrlzcode.org
SUMMARY:WNC Asheville Comic Con
DESCRIPTION:Adults: $5.00\n13 and under: $3.00\nAges 3 and under: Free
URL:https://webgyrlzcode.org/event/wnc-asheville-comic-con/
LOCATION:Western Ag Center\, 1301 Fanning Bridge Rd\, Fletcher\, NC\, 28732\, United States
CATEGORIES:Comic Con
END:VEVENT
END:VCALENDAR